BEGIN:VCALENDAR
VERSION:2.0
PRODID:-//ChamberMaster//Event Calendar 2.0//EN
METHOD:PUBLISH
X-PUBLISHED-TTL:P3D
REFRESH-INTERVAL:P3D
CALSCALE:GREGORIAN
BEGIN:VEVENT
DTSTART:20240409T210000Z
DTEND:20240409T230000Z
X-MICROSOFT-CDO-ALLDAYEVENT:FALSE
SUMMARY:Golf Kick-Off Mixer
DESCRIPTION:The Bedford County Chamber is thrilled to bring back our popular Golf  Mixer\, a kick-off to spring and the golf season!  Bedford County is rich in public golf opportunities\, with something for everyone\, regardless of level of ability and interest.  Join us for this Masters-week mixer to meet and greet local pros and learn about the many experiences awaiting you on local links!  \n\n\n\nExhibits by area facilities\, door prizes and more.\n\n\n\nFeatured program: Playing Golf at All Levels by Jim Woods\, Omni Bedford Springs PGA Director of Golf\, followed by a Q&A form with all local pros in attendance.\n\nOffers to be provided to all attendees include:\n\n\n\nOFFERS INCLUDE:\n\nBOGO Twilight Golf at Omni Bedford Springs + 15% Pro Shop Discount\n\nBOGO Round of Golf at Rocky Gap\n\nBOGO Golf at Down River + 10% Off Food at Fairways\n\nBOGO Golf at King Valley\n\nBOGO Mid-Week Golf (9 Holes) at Blue Knob\n\nFREE Round at Iron Masters During 2024 Season\n\nFREE 1-hour clinic at the Bedford Elks to preview their spring/summer offerings through T'eed Up Golf
X-ALT-DESC;FMTTYPE=text/html:<p><span style="font-size:14px\;">The Bedford County Chamber is thrilled to bring back our popular Golf&nbsp\; Mixer\, a kick-off to spring and the golf season!&nbsp\; Bedford County is rich in public golf opportunities\, with something for everyone\, regardless of level of ability and interest.&nbsp\; Join us for this Masters-week mixer to meet and greet local pros and learn about the many experiences awaiting you on local links!&nbsp\;&nbsp\;<br />\n<br />\nExhibits by area facilities\, door prizes and more.<br />\n<br />\nFeatured program: <span style="font-family:calibri\,sans-serif\;"><span style="font-size:16px\;"><em>Playing Golf at All Levels</em></span> by Jim Woods\, Omni Bedford Springs PGA Director of Golf\, followed by a Q&amp\;A form with all local pros in attendance.</span></span></p>\n\n<p><span style="font-size:14px\;"><span style="font-family:calibri\,sans-serif\;">Offers to be provided to all attendees include:</span></span><br />\n<br />\n<strong><span style="font-family:arial\,sans-serif\;">OFFERS INCLUDE:</span></strong><br />\n<span style="font-family:arial\,sans-serif\;">BOGO Twilight Golf at Omni Bedford Springs + 15% Pro Shop Discount</span><br />\n<span style="font-family:arial\,sans-serif\;">BOGO Round of Golf at Rocky Gap</span><br />\n<span style="font-family:arial\,sans-serif\;"><span style="font-size:11.5pt\;">BOGO Golf at Down River + 10% Off Food at Fairways</span></span><br />\n<span style="font-family:arial\,sans-serif\;"><span style="font-size:11.5pt\;">BOGO Golf at King Valley</span></span><br />\n<span style="font-family:arial\,sans-serif\;"><span style="font-size:11.5pt\;">BOGO Mid-Week Golf (9 Holes) at Blue Knob</span></span><br />\n<span style="font-family:arial\,sans-serif\;"><span style="font-size:11.5pt\;">FREE Round at Iron Masters During 2024 Season</span></span><br />\nFREE 1-hour clinic at the Bedford Elks to preview their spring/summer offerings through T&#39\;eed Up Golf</p>\n
LOCATION:Tillie's at the Clubhouse Omni Bedford Springs Resort Business Rt. 220 - Bedford
UID:e.2733.1677
SEQUENCE:3
DTSTAMP:20260423T064203Z
URL:https://members.bedfordcountychamber.com/events/details/golf-kick-off-mixer-1677
END:VEVENT

END:VCALENDAR
