BEGIN:VCALENDAR
VERSION:2.0
PRODID:-//ChamberMaster//Event Calendar 2.0//EN
METHOD:PUBLISH
X-PUBLISHED-TTL:P3D
REFRESH-INTERVAL:P3D
CALSCALE:GREGORIAN
BEGIN:VEVENT
DTSTART:20260916T210000Z
DTEND:20260916T233000Z
X-MICROSOFT-CDO-ALLDAYEVENT:FALSE
SUMMARY:Downtown on the Farm 2026
DESCRIPTION:A street fair celebration of local agriculture\, Downtown on the Farm is a highly-anticipated annual event in downtown Bedford.  Enjoy Farmer's Market vendors\, tractor exhibits\, educational displays and children's activities.
X-ALT-DESC;FMTTYPE=text/html:<br />\n<br />\nA street fair celebration of local agriculture\, Downtown on the Farm is a highly-anticipated annual event in downtown Bedford.&nbsp\; Enjoy Farmer&#39\;s Market vendors\, tractor exhibits\, educational displays and children&#39\;s activities.<br />\n&nbsp\;
LOCATION:Juliana Street between Central Way and Penn Street Downtown Bedford
UID:e.2733.1999
SEQUENCE:3
DTSTAMP:20260425T130814Z
URL:https://members.bedfordcountychamber.com/events/details/downtown-on-the-farm-2026-1999
END:VEVENT

END:VCALENDAR
