BEGIN:VCALENDAR
VERSION:2.0
PRODID:-//ChamberMaster//Event Calendar 2.0//EN
METHOD:PUBLISH
X-PUBLISHED-TTL:P3D
REFRESH-INTERVAL:P3D
CALSCALE:GREGORIAN
BEGIN:VEVENT
DTSTART:20240409T140000Z
DTEND:20240409T150000Z
X-MICROSOFT-CDO-ALLDAYEVENT:FALSE
SUMMARY:Community Reading Day
DESCRIPTION:The Chamber Foundation is pleased to celebrate the 24th anniversary of Community Reading Day\, a program to promote literacy and career exploration throughout Bedford County elementary schools.
X-ALT-DESC;FMTTYPE=text/html:The Chamber Foundation is pleased to celebrate the 24th anniversary of Community Reading Day\, a program to promote literacy and career exploration throughout Bedford County elementary schools.&nbsp\;<br />\n&nbsp\;
LOCATION:Bedford County Pre-K through 3rd Grade Classrooms
UID:e.2733.1651
SEQUENCE:3
DTSTAMP:20260423T110357Z
URL:https://members.bedfordcountychamber.com/events/details/community-reading-day-1651
END:VEVENT

END:VCALENDAR
