BEGIN:VCALENDAR
VERSION:2.0
PRODID:-//ChamberMaster//Event Calendar 2.0//EN
METHOD:PUBLISH
X-PUBLISHED-TTL:P3D
REFRESH-INTERVAL:P3D
CALSCALE:GREGORIAN
BEGIN:VEVENT
DTSTART:20270128T130000Z
DTEND:20270128T143000Z
X-MICROSOFT-CDO-ALLDAYEVENT:FALSE
SUMMARY:Community Prayer Breakfast 2027
DESCRIPTION:The Bedford County Chamber is pleased to present our seventh annual Prayer Breakfast\, an opportunity for the business community to come together to express gratitude and hope for the new year. \n\n\n\nThe program will be provided by representatives from the faith community.
X-ALT-DESC;FMTTYPE=text/html:<p>The Bedford County Chamber is pleased to present our seventh annual Prayer Breakfast\, an opportunity for the business community to come together to express gratitude and hope for the new year.&nbsp\;<br />\n<br />\nThe program will be provided by representatives from the faith community.&nbsp\;&nbsp\;<br />\n<br />\n<br />\n&nbsp\;</p>\n\n<p><br />\n<br />\n&nbsp\;</p>\n
LOCATION:
UID:e.2733.2001
SEQUENCE:3
DTSTAMP:20260420T213823Z
URL:https://members.bedfordcountychamber.com/events/details/community-prayer-breakfast-2027-2001
END:VEVENT

END:VCALENDAR
