BEGIN:VCALENDAR
VERSION:2.0
PRODID:-//ChamberMaster//Event Calendar 2.0//EN
METHOD:PUBLISH
X-PUBLISHED-TTL:P3D
REFRESH-INTERVAL:P3D
CALSCALE:GREGORIAN
BEGIN:VEVENT
DTSTART:20261015T120000Z
DTEND:20261015T190000Z
X-MICROSOFT-CDO-ALLDAYEVENT:FALSE
SUMMARY:Business Community Showcase
DESCRIPTION:The Chamber's largest business-to-business networking event of the year returns in 2026 with a day full of activities.
X-ALT-DESC;FMTTYPE=text/html:The Chamber&#39\;s largest business-to-business networking event of the year returns in 2026 with a day full of activities.&nbsp\;&nbsp\;
LOCATION:Bedford County Airport 697 Belden Rd\, Bedford\, PA 155522
UID:e.2733.2006
SEQUENCE:3
DTSTAMP:20260424T183200Z
URL:https://members.bedfordcountychamber.com/events/details/business-community-showcase-2006
END:VEVENT

END:VCALENDAR
