BEGIN:VCALENDAR
VERSION:2.0
PRODID:-//ChamberMaster//Event Calendar 2.0//EN
METHOD:PUBLISH
X-PUBLISHED-TTL:P3D
REFRESH-INTERVAL:P3D
CALSCALE:GREGORIAN
BEGIN:VEVENT
DTSTART;VALUE=DATE:20260726
DTEND;VALUE=DATE:20260727
TRANSP:TRANSPARENT
X-MICROSOFT-CDO-ALLDAYEVENT:TRUE
SUMMARY:Bedford County Fair / Fun Farm Facts 2026
DESCRIPTION:Fun Farm Facts is a fact-finding scavenger hunt for families during the Bedford County Fair.  Pick up a question sheet at the 4-H building or fair office (or download from the Chamber website)\, look for the 50+ fact posters\, placed throughout the fairgrounds (both sides\, including Jordan Hall\, the barns\, 4H building\, pavilion(s)\, etc.  Answer all the questions and drop off the answer sheet in the 4-H building\, fair office or Chamber office at 203 S. Juliana St. in Bedford to be entered into a drawing to win tickets to the Silver Lining Drive-In movies. Learn more at BedfordCountyChamber.com or call 814-623-2233.
X-ALT-DESC;FMTTYPE=text/html:Fun Farm Facts is a fact-finding scavenger hunt for families during the Bedford County Fair.&nbsp\; Pick up a question sheet at the 4-H building or fair office (or download from the Chamber website)\, look for the 50+ fact posters\, placed throughout the fairgrounds (both sides\, including Jordan Hall\, the barns\, 4H building\, pavilion(s)\, etc.&nbsp\; Answer all the questions and drop off the answer sheet in the 4-H building\, fair office or Chamber office at 203 S. Juliana St. in Bedford to be entered into a drawing to win tickets to the Silver Lining Drive-In movies. Learn more at BedfordCountyChamber.com or call 814-623-2233.
LOCATION:Bedford County Fairgrounds
UID:e.2733.2005
SEQUENCE:3
DTSTAMP:20260425T130945Z
URL:https://members.bedfordcountychamber.com/events/details/bedford-county-fair-fun-farm-facts-2026-2005
END:VEVENT

END:VCALENDAR
