BEGIN:VCALENDAR
VERSION:2.0
PRODID:-//ChamberMaster//Event Calendar 2.0//EN
METHOD:PUBLISH
X-PUBLISHED-TTL:P3D
REFRESH-INTERVAL:P3D
CALSCALE:GREGORIAN
BEGIN:VEVENT
DTSTART:20260924T213000Z
DTEND:20260925T013000Z
X-MICROSOFT-CDO-ALLDAYEVENT:FALSE
SUMMARY:Annual Dinner and Awards Celebration
DESCRIPTION:The Chamber's annual celebration of the business community of the Bedford County region features the theme Bedford County Business: Rebellion and Recognition\, with a nod to the America 250 commemoration and Bedford County's unique role in the Whiskey Rebellion. \n\n\n\nAs many as eighteen awards will be presented\, recognizing a variety of accomplishments\, including: excellence in business (small\, medium and large categories)\, community service\, historical preservation\, property improvement\, agri-business\, education and servant leadership\, as well as the prestigious Athena Award\, sponsored by Bedford BPW and Thomas Dealerships.\n\n\n\nThe Chamber partners with BCDA\, the Bedford County Visitors Bureau\, and Bedford County Community Connections to present awards for economic development\, excellence in tourism\, and a commitment to hiring people with disabilities.\n\n\n\nSponsorships & registrations for the celebration may be limited\, so those wishing to attend should register as soon as possible\; this event traditionally sells out.\n\n\n\nThank you in advance for supporting the Chamber and our business community!
X-ALT-DESC;FMTTYPE=text/html:<p>The Chamber&#39\;s annual celebration of the business community of the Bedford County region features the theme <em>Bedford County Business: Rebellion and Recognition</em>\, with a nod to the America 250 commemoration and Bedford County&#39\;s unique role in the Whiskey Rebellion.&nbsp\;<br />\n<br />\nAs many as eighteen awards will be presented\, recognizing a variety of accomplishments\, including: excellence in business (small\, medium and large categories)\, community service\, historical preservation\, property improvement\, agri-business\, education and servant leadership\, as well as the prestigious Athena Award\, sponsored by Bedford BPW and Thomas Dealerships.<br />\n<br />\nThe Chamber partners with BCDA\, the Bedford County Visitors Bureau\, and Bedford County Community Connections to present awards for economic development\, excellence in tourism\, and a commitment to hiring people with disabilities.<br />\n<br />\nSponsorships &amp\; registrations for the celebration may be limited\, so those wishing to attend should register as soon as possible\; this event traditionally sells out.<br />\n<br />\n<strong>Thank you in advance for supporting the Chamber and our business community!</strong></p>\n
LOCATION:Venue at the Stables 396 Walker Road Buffalo Mills\, PA
UID:e.2733.1996
SEQUENCE:3
DTSTAMP:20260420T203609Z
URL:https://members.bedfordcountychamber.com/events/details/annual-dinner-and-awards-celebration-1996
END:VEVENT

END:VCALENDAR
